BEGIN:VCALENDAR
VERSION:2.0
PRODID:-//Sabre//Sabre VObject 4.5.8//EN
CALSCALE:GREGORIAN
BEGIN:VEVENT
UID:sabre-vobject-27244ab7-b835-4b37-95e8-3f01043e474e
DTSTAMP:20260423T052138Z
SUMMARY:December  Bowling Tournament 
DESCRIPTION:Join us for the Ho Ho Ho Secret&nbsp\;Santa&nbsp\;Mystery Doubl
 es Tournament!\n
X-ALT-DESC:FMTTYPE=text/html:<!DOCTYPE HTML PUBLIC "-//W3C//DTD HTML 3.2//E
 N"><HTML><p>Join us for the Ho Ho Ho Secret&nbsp\;Santa&nbsp\;Mystery Doub
 les Tournament!</p>\n</HTML>
CREATED;TZID=America/Chicago:20250827T084102
URL;VALUE=URI:https://sill.armymwr.com/calendar/event
DTSTART;TZID=America/Chicago:20251214T133000
DTEND;TZID=America/Chicago:20251214T143000
SEQUENCE:0
END:VEVENT
END:VCALENDAR
