BEGIN:VCALENDAR
VERSION:2.0
PRODID:-//Sabre//Sabre VObject 4.5.8//EN
CALSCALE:GREGORIAN
BEGIN:VEVENT
UID:sabre-vobject-ca0ff2fe-65b4-4143-bc5e-ebd789b6ad93
DTSTAMP:20260423T155305Z
SUMMARY:Holiday Cottages at LETRA
DESCRIPTION:Experience Fort Sill and the Wichita Mountains during the most 
 magical time of year!\n
X-ALT-DESC:FMTTYPE=text/html:<!DOCTYPE HTML PUBLIC "-//W3C//DTD HTML 3.2//E
 N"><HTML><p>Experience Fort Sill and the Wichita Mountains during the most
  magical time of year!</p>\n</HTML>
CREATED;TZID=America/Chicago:20251110T102928
URL;VALUE=URI:https://sill.armymwr.com/calendar/event
DTSTART;TZID=America/Chicago:20251201T000000
DTEND;TZID=America/Chicago:20260131T235959
SEQUENCE:0
END:VEVENT
END:VCALENDAR
