BEGIN:VCALENDAR
VERSION:2.0
PRODID:-//Sabre//Sabre VObject 4.5.8//EN
CALSCALE:GREGORIAN
BEGIN:VEVENT
UID:sabre-vobject-3ff9c1f1-8c83-46d1-bf95-2f0c826f6966
DTSTAMP:20260423T142231Z
SUMMARY:Sleigh the Miles - Holiday Hustle Challenge
DESCRIPTION:Join us at Rinehart Fitness Center for the Sleigh the Miles - H
 oliday Hustle Challenge and earn prizes!&nbsp\;\n
X-ALT-DESC:FMTTYPE=text/html:<!DOCTYPE HTML PUBLIC "-//W3C//DTD HTML 3.2//E
 N"><HTML><p>Join us at Rinehart Fitness Center for the Sleigh the Miles - 
 Holiday Hustle Challenge and earn prizes!&nbsp\;</p>\n</HTML>
CREATED;TZID=America/Chicago:20251117T125918
URL;VALUE=URI:https://sill.armymwr.com/calendar/event
DTSTART;TZID=America/Chicago:20251201T000000
DTEND;TZID=America/Chicago:20251224T235959
SEQUENCE:0
END:VEVENT
END:VCALENDAR
