BEGIN:VCALENDAR
VERSION:2.0
PRODID:-//Sabre//Sabre VObject 4.5.8//EN
CALSCALE:GREGORIAN
BEGIN:VEVENT
UID:sabre-vobject-f3fc6b1b-d406-4a71-bc70-3fdf41fc4f59
DTSTAMP:20260423T200919Z
SUMMARY:Bundle Up & Read — December Reading Challenge
DESCRIPTION:Cozy up with good books in December!\n
X-ALT-DESC:FMTTYPE=text/html:<!DOCTYPE HTML PUBLIC "-//W3C//DTD HTML 3.2//E
 N"><HTML><p>Cozy up with good books in December!</p>\n</HTML>
CREATED;TZID=America/Chicago:20251117T142734
URL;VALUE=URI:https://sill.armymwr.com/calendar/event
DTSTART;TZID=America/Chicago:20251201T000000
DTEND;TZID=America/Chicago:20251231T235959
SEQUENCE:0
END:VEVENT
END:VCALENDAR
