BEGIN:VCALENDAR
VERSION:2.0
PRODID:-//Sabre//Sabre VObject 4.5.8//EN
CALSCALE:GREGORIAN
BEGIN:VEVENT
UID:sabre-vobject-5dd6a5c8-e761-46b4-a1ae-a7d9f2c965d4
DTSTAMP:20260423T142232Z
SUMMARY:Trees for Fort Sill
DESCRIPTION:Fort Sill Recycling Center presents: Trees for Fort Sill!\n
X-ALT-DESC:FMTTYPE=text/html:<!DOCTYPE HTML PUBLIC "-//W3C//DTD HTML 3.2//E
 N"><HTML><p>Fort Sill Recycling Center presents: Trees for Fort Sill!</p>\
 n</HTML>
CREATED;TZID=America/Chicago:20251203T114704
URL;VALUE=URI:https://sill.armymwr.com/calendar/event
DTSTART;TZID=America/Chicago:20251213T070000
DTEND;TZID=America/Chicago:20251213T170000
SEQUENCE:0
END:VEVENT
BEGIN:VEVENT
UID:sabre-vobject-0a8dc304-ac81-4abf-90aa-7ae0efdfe6cd
DTSTAMP:20260423T142232Z
SUMMARY:Trees for Fort Sill
DESCRIPTION:Fort Sill Recycling Center presents: Trees for Fort Sill!\n
X-ALT-DESC:FMTTYPE=text/html:<!DOCTYPE HTML PUBLIC "-//W3C//DTD HTML 3.2//E
 N"><HTML><p>Fort Sill Recycling Center presents: Trees for Fort Sill!</p>\
 n</HTML>
CREATED;TZID=America/Chicago:20251203T114704
URL;VALUE=URI:https://sill.armymwr.com/calendar/event
DTSTART;TZID=America/Chicago:20251214T230000
DTEND;TZID=America/Chicago:20251214T170000
SEQUENCE:1
END:VEVENT
END:VCALENDAR
