BEGIN:VCALENDAR
VERSION:2.0
PRODID:-//Sabre//Sabre VObject 4.5.8//EN
CALSCALE:GREGORIAN
BEGIN:VEVENT
UID:sabre-vobject-22bf5c6e-9995-4820-a460-6c23d0cd191d
DTSTAMP:20260422T083130Z
SUMMARY:Patriot Club Lunch Buffet (FINAL)
DESCRIPTION:Come hungry and bring your coworkers!&nbsp\;\n
X-ALT-DESC:FMTTYPE=text/html:<!DOCTYPE HTML PUBLIC "-//W3C//DTD HTML 3.2//E
 N"><HTML><p>Come hungry and bring your coworkers!&nbsp\;</p>\n</HTML>
CREATED;TZID=America/Chicago:20260420T141717
URL;VALUE=URI:https://sill.armymwr.com/calendar/event
DTSTART;TZID=America/Chicago:20260428T113000
DTEND;TZID=America/Chicago:20260428T130000
SEQUENCE:0
END:VEVENT
END:VCALENDAR
