BEGIN:VCALENDAR
VERSION:2.0
PRODID:-//Sabre//Sabre VObject 4.5.8//EN
CALSCALE:GREGORIAN
BEGIN:VEVENT
UID:sabre-vobject-fdf73774-26d2-4983-9f70-9d03c7e57909
DTSTAMP:20260422T003217Z
SUMMARY:Escape Room: Bean Vine Digital
DESCRIPTION:Step into a fairytale adventure with Nye Library&rsquo\;s&nbsp\
 ;Jake and the Bean Vine&nbsp\;Escape Room!&nbsp\;\n
X-ALT-DESC:FMTTYPE=text/html:<!DOCTYPE HTML PUBLIC "-//W3C//DTD HTML 3.2//E
 N"><HTML><p>Step into a fairytale adventure with Nye Library&rsquo\;s&nbsp
 \;<em>Jake and the Bean Vine</em>&nbsp\;Escape Room!&nbsp\;</p>\n</HTML>
CREATED;TZID=America/Chicago:20260421T144531
URL;VALUE=URI:https://sill.armymwr.com/calendar/event
DTSTART;TZID=America/Chicago:20260509T103000
DTEND;TZID=America/Chicago:20260509T113000
SEQUENCE:0
END:VEVENT
BEGIN:VEVENT
UID:sabre-vobject-4db175d2-2d98-4dd3-abb8-50a10d6d72cf
DTSTAMP:20260422T003217Z
SUMMARY:Escape Room: Bean Vine Digital
DESCRIPTION:Step into a fairytale adventure with Nye Library&rsquo\;s&nbsp\
 ;Jake and the Bean Vine&nbsp\;Escape Room!&nbsp\;\n
X-ALT-DESC:FMTTYPE=text/html:<!DOCTYPE HTML PUBLIC "-//W3C//DTD HTML 3.2//E
 N"><HTML><p>Step into a fairytale adventure with Nye Library&rsquo\;s&nbsp
 \;<em>Jake and the Bean Vine</em>&nbsp\;Escape Room!&nbsp\;</p>\n</HTML>
CREATED;TZID=America/Chicago:20260421T144531
URL;VALUE=URI:https://sill.armymwr.com/calendar/event
DTSTART;TZID=America/Chicago:20260509T143000
DTEND;TZID=America/Chicago:20260509T153000
SEQUENCE:1
END:VEVENT
BEGIN:VEVENT
UID:sabre-vobject-4785d6b1-330d-415f-8145-45d8949f431b
DTSTAMP:20260422T003217Z
SUMMARY:Escape Room: Bean Vine Digital
DESCRIPTION:Step into a fairytale adventure with Nye Library&rsquo\;s&nbsp\
 ;Jake and the Bean Vine&nbsp\;Escape Room!&nbsp\;\n
X-ALT-DESC:FMTTYPE=text/html:<!DOCTYPE HTML PUBLIC "-//W3C//DTD HTML 3.2//E
 N"><HTML><p>Step into a fairytale adventure with Nye Library&rsquo\;s&nbsp
 \;<em>Jake and the Bean Vine</em>&nbsp\;Escape Room!&nbsp\;</p>\n</HTML>
CREATED;TZID=America/Chicago:20260421T144531
URL;VALUE=URI:https://sill.armymwr.com/calendar/event
DTSTART;TZID=America/Chicago:20260514T163000
DTEND;TZID=America/Chicago:20260514T173000
SEQUENCE:2
END:VEVENT
BEGIN:VEVENT
UID:sabre-vobject-87fc15b7-aa93-4642-b9bc-6ff36ef78be2
DTSTAMP:20260422T003217Z
SUMMARY:Escape Room: Bean Vine Digital
DESCRIPTION:Step into a fairytale adventure with Nye Library&rsquo\;s&nbsp\
 ;Jake and the Bean Vine&nbsp\;Escape Room!&nbsp\;\n
X-ALT-DESC:FMTTYPE=text/html:<!DOCTYPE HTML PUBLIC "-//W3C//DTD HTML 3.2//E
 N"><HTML><p>Step into a fairytale adventure with Nye Library&rsquo\;s&nbsp
 \;<em>Jake and the Bean Vine</em>&nbsp\;Escape Room!&nbsp\;</p>\n</HTML>
CREATED;TZID=America/Chicago:20260421T144531
URL;VALUE=URI:https://sill.armymwr.com/calendar/event
DTSTART;TZID=America/Chicago:20260521T163000
DTEND;TZID=America/Chicago:20260521T173000
SEQUENCE:3
END:VEVENT
BEGIN:VEVENT
UID:sabre-vobject-fe523f69-09eb-4c3f-a5f2-b2bcd8f66105
DTSTAMP:20260422T003217Z
SUMMARY:Escape Room: Bean Vine Digital
DESCRIPTION:Step into a fairytale adventure with Nye Library&rsquo\;s&nbsp\
 ;Jake and the Bean Vine&nbsp\;Escape Room!&nbsp\;\n
X-ALT-DESC:FMTTYPE=text/html:<!DOCTYPE HTML PUBLIC "-//W3C//DTD HTML 3.2//E
 N"><HTML><p>Step into a fairytale adventure with Nye Library&rsquo\;s&nbsp
 \;<em>Jake and the Bean Vine</em>&nbsp\;Escape Room!&nbsp\;</p>\n</HTML>
CREATED;TZID=America/Chicago:20260421T144531
URL;VALUE=URI:https://sill.armymwr.com/calendar/event
DTSTART;TZID=America/Chicago:20260523T103000
DTEND;TZID=America/Chicago:20260523T113000
SEQUENCE:4
END:VEVENT
BEGIN:VEVENT
UID:sabre-vobject-a0c017aa-0985-43dd-b754-9ec380c1784f
DTSTAMP:20260422T003217Z
SUMMARY:Escape Room: Bean Vine Digital
DESCRIPTION:Step into a fairytale adventure with Nye Library&rsquo\;s&nbsp\
 ;Jake and the Bean Vine&nbsp\;Escape Room!&nbsp\;\n
X-ALT-DESC:FMTTYPE=text/html:<!DOCTYPE HTML PUBLIC "-//W3C//DTD HTML 3.2//E
 N"><HTML><p>Step into a fairytale adventure with Nye Library&rsquo\;s&nbsp
 \;<em>Jake and the Bean Vine</em>&nbsp\;Escape Room!&nbsp\;</p>\n</HTML>
CREATED;TZID=America/Chicago:20260421T144531
URL;VALUE=URI:https://sill.armymwr.com/calendar/event
DTSTART;TZID=America/Chicago:20260523T143000
DTEND;TZID=America/Chicago:20260523T153000
SEQUENCE:5
END:VEVENT
BEGIN:VEVENT
UID:sabre-vobject-59180ba1-8eb7-4b57-bfa6-144e51f65523
DTSTAMP:20260422T003217Z
SUMMARY:Escape Room: Bean Vine Digital
DESCRIPTION:Step into a fairytale adventure with Nye Library&rsquo\;s&nbsp\
 ;Jake and the Bean Vine&nbsp\;Escape Room!&nbsp\;\n
X-ALT-DESC:FMTTYPE=text/html:<!DOCTYPE HTML PUBLIC "-//W3C//DTD HTML 3.2//E
 N"><HTML><p>Step into a fairytale adventure with Nye Library&rsquo\;s&nbsp
 \;<em>Jake and the Bean Vine</em>&nbsp\;Escape Room!&nbsp\;</p>\n</HTML>
CREATED;TZID=America/Chicago:20260421T144531
URL;VALUE=URI:https://sill.armymwr.com/calendar/event
DTSTART;TZID=America/Chicago:20260611T163000
DTEND;TZID=America/Chicago:20260611T173000
SEQUENCE:6
END:VEVENT
BEGIN:VEVENT
UID:sabre-vobject-6180a9f1-1ead-454c-b360-c04a5cb983d5
DTSTAMP:20260422T003217Z
SUMMARY:Escape Room: Bean Vine Digital
DESCRIPTION:Step into a fairytale adventure with Nye Library&rsquo\;s&nbsp\
 ;Jake and the Bean Vine&nbsp\;Escape Room!&nbsp\;\n
X-ALT-DESC:FMTTYPE=text/html:<!DOCTYPE HTML PUBLIC "-//W3C//DTD HTML 3.2//E
 N"><HTML><p>Step into a fairytale adventure with Nye Library&rsquo\;s&nbsp
 \;<em>Jake and the Bean Vine</em>&nbsp\;Escape Room!&nbsp\;</p>\n</HTML>
CREATED;TZID=America/Chicago:20260421T144531
URL;VALUE=URI:https://sill.armymwr.com/calendar/event
DTSTART;TZID=America/Chicago:20260613T103000
DTEND;TZID=America/Chicago:20260613T113000
SEQUENCE:7
END:VEVENT
BEGIN:VEVENT
UID:sabre-vobject-eb641f47-3e87-40e8-b984-4c07607e8fb2
DTSTAMP:20260422T003217Z
SUMMARY:Escape Room: Bean Vine Digital
DESCRIPTION:Step into a fairytale adventure with Nye Library&rsquo\;s&nbsp\
 ;Jake and the Bean Vine&nbsp\;Escape Room!&nbsp\;\n
X-ALT-DESC:FMTTYPE=text/html:<!DOCTYPE HTML PUBLIC "-//W3C//DTD HTML 3.2//E
 N"><HTML><p>Step into a fairytale adventure with Nye Library&rsquo\;s&nbsp
 \;<em>Jake and the Bean Vine</em>&nbsp\;Escape Room!&nbsp\;</p>\n</HTML>
CREATED;TZID=America/Chicago:20260421T144531
URL;VALUE=URI:https://sill.armymwr.com/calendar/event
DTSTART;TZID=America/Chicago:20260613T143000
DTEND;TZID=America/Chicago:20260613T153000
SEQUENCE:8
END:VEVENT
BEGIN:VEVENT
UID:sabre-vobject-db371cdd-17aa-4c15-b5c7-13855264d317
DTSTAMP:20260422T003217Z
SUMMARY:Escape Room: Bean Vine Digital
DESCRIPTION:Step into a fairytale adventure with Nye Library&rsquo\;s&nbsp\
 ;Jake and the Bean Vine&nbsp\;Escape Room!&nbsp\;\n
X-ALT-DESC:FMTTYPE=text/html:<!DOCTYPE HTML PUBLIC "-//W3C//DTD HTML 3.2//E
 N"><HTML><p>Step into a fairytale adventure with Nye Library&rsquo\;s&nbsp
 \;<em>Jake and the Bean Vine</em>&nbsp\;Escape Room!&nbsp\;</p>\n</HTML>
CREATED;TZID=America/Chicago:20260421T144531
URL;VALUE=URI:https://sill.armymwr.com/calendar/event
DTSTART;TZID=America/Chicago:20260625T163000
DTEND;TZID=America/Chicago:20260625T173000
SEQUENCE:9
END:VEVENT
BEGIN:VEVENT
UID:sabre-vobject-d54e0753-8b68-414a-bbef-3d5848185279
DTSTAMP:20260422T003217Z
SUMMARY:Escape Room: Bean Vine Digital
DESCRIPTION:Step into a fairytale adventure with Nye Library&rsquo\;s&nbsp\
 ;Jake and the Bean Vine&nbsp\;Escape Room!&nbsp\;\n
X-ALT-DESC:FMTTYPE=text/html:<!DOCTYPE HTML PUBLIC "-//W3C//DTD HTML 3.2//E
 N"><HTML><p>Step into a fairytale adventure with Nye Library&rsquo\;s&nbsp
 \;<em>Jake and the Bean Vine</em>&nbsp\;Escape Room!&nbsp\;</p>\n</HTML>
CREATED;TZID=America/Chicago:20260421T144531
URL;VALUE=URI:https://sill.armymwr.com/calendar/event
DTSTART;TZID=America/Chicago:20260627T103000
DTEND;TZID=America/Chicago:20260627T113000
SEQUENCE:10
END:VEVENT
BEGIN:VEVENT
UID:sabre-vobject-afba7cd2-944e-4ae8-bba0-df1551d2d8db
DTSTAMP:20260422T003217Z
SUMMARY:Escape Room: Bean Vine Digital
DESCRIPTION:Step into a fairytale adventure with Nye Library&rsquo\;s&nbsp\
 ;Jake and the Bean Vine&nbsp\;Escape Room!&nbsp\;\n
X-ALT-DESC:FMTTYPE=text/html:<!DOCTYPE HTML PUBLIC "-//W3C//DTD HTML 3.2//E
 N"><HTML><p>Step into a fairytale adventure with Nye Library&rsquo\;s&nbsp
 \;<em>Jake and the Bean Vine</em>&nbsp\;Escape Room!&nbsp\;</p>\n</HTML>
CREATED;TZID=America/Chicago:20260421T144531
URL;VALUE=URI:https://sill.armymwr.com/calendar/event
DTSTART;TZID=America/Chicago:20260627T143000
DTEND;TZID=America/Chicago:20260627T153000
SEQUENCE:11
END:VEVENT
BEGIN:VEVENT
UID:sabre-vobject-fe8bf72d-e0fa-4034-9a55-650361421574
DTSTAMP:20260422T003217Z
SUMMARY:Escape Room: Bean Vine Digital
DESCRIPTION:Step into a fairytale adventure with Nye Library&rsquo\;s&nbsp\
 ;Jake and the Bean Vine&nbsp\;Escape Room!&nbsp\;\n
X-ALT-DESC:FMTTYPE=text/html:<!DOCTYPE HTML PUBLIC "-//W3C//DTD HTML 3.2//E
 N"><HTML><p>Step into a fairytale adventure with Nye Library&rsquo\;s&nbsp
 \;<em>Jake and the Bean Vine</em>&nbsp\;Escape Room!&nbsp\;</p>\n</HTML>
CREATED;TZID=America/Chicago:20260421T144531
URL;VALUE=URI:https://sill.armymwr.com/calendar/event
DTSTART;TZID=America/Chicago:20260709T163000
DTEND;TZID=America/Chicago:20260709T173000
SEQUENCE:12
END:VEVENT
BEGIN:VEVENT
UID:sabre-vobject-7a0bdbc7-4c2e-487e-aece-9ddd46d46db6
DTSTAMP:20260422T003217Z
SUMMARY:Escape Room: Bean Vine Digital
DESCRIPTION:Step into a fairytale adventure with Nye Library&rsquo\;s&nbsp\
 ;Jake and the Bean Vine&nbsp\;Escape Room!&nbsp\;\n
X-ALT-DESC:FMTTYPE=text/html:<!DOCTYPE HTML PUBLIC "-//W3C//DTD HTML 3.2//E
 N"><HTML><p>Step into a fairytale adventure with Nye Library&rsquo\;s&nbsp
 \;<em>Jake and the Bean Vine</em>&nbsp\;Escape Room!&nbsp\;</p>\n</HTML>
CREATED;TZID=America/Chicago:20260421T144531
URL;VALUE=URI:https://sill.armymwr.com/calendar/event
DTSTART;TZID=America/Chicago:20260711T103000
DTEND;TZID=America/Chicago:20260711T113000
SEQUENCE:13
END:VEVENT
BEGIN:VEVENT
UID:sabre-vobject-bcf424a2-1049-44ac-be1f-a2ef99729661
DTSTAMP:20260422T003217Z
SUMMARY:Escape Room: Bean Vine Digital
DESCRIPTION:Step into a fairytale adventure with Nye Library&rsquo\;s&nbsp\
 ;Jake and the Bean Vine&nbsp\;Escape Room!&nbsp\;\n
X-ALT-DESC:FMTTYPE=text/html:<!DOCTYPE HTML PUBLIC "-//W3C//DTD HTML 3.2//E
 N"><HTML><p>Step into a fairytale adventure with Nye Library&rsquo\;s&nbsp
 \;<em>Jake and the Bean Vine</em>&nbsp\;Escape Room!&nbsp\;</p>\n</HTML>
CREATED;TZID=America/Chicago:20260421T144531
URL;VALUE=URI:https://sill.armymwr.com/calendar/event
DTSTART;TZID=America/Chicago:20260711T143000
DTEND;TZID=America/Chicago:20260711T153000
SEQUENCE:14
END:VEVENT
BEGIN:VEVENT
UID:sabre-vobject-a4f10777-fd34-481d-9ee6-e2062eb0364d
DTSTAMP:20260422T003217Z
SUMMARY:Escape Room: Bean Vine Digital
DESCRIPTION:Step into a fairytale adventure with Nye Library&rsquo\;s&nbsp\
 ;Jake and the Bean Vine&nbsp\;Escape Room!&nbsp\;\n
X-ALT-DESC:FMTTYPE=text/html:<!DOCTYPE HTML PUBLIC "-//W3C//DTD HTML 3.2//E
 N"><HTML><p>Step into a fairytale adventure with Nye Library&rsquo\;s&nbsp
 \;<em>Jake and the Bean Vine</em>&nbsp\;Escape Room!&nbsp\;</p>\n</HTML>
CREATED;TZID=America/Chicago:20260421T144531
URL;VALUE=URI:https://sill.armymwr.com/calendar/event
DTSTART;TZID=America/Chicago:20260723T163000
DTEND;TZID=America/Chicago:20260723T173000
SEQUENCE:15
END:VEVENT
BEGIN:VEVENT
UID:sabre-vobject-8bc4dcec-13f3-4367-8a89-24167e130d3a
DTSTAMP:20260422T003217Z
SUMMARY:Escape Room: Bean Vine Digital
DESCRIPTION:Step into a fairytale adventure with Nye Library&rsquo\;s&nbsp\
 ;Jake and the Bean Vine&nbsp\;Escape Room!&nbsp\;\n
X-ALT-DESC:FMTTYPE=text/html:<!DOCTYPE HTML PUBLIC "-//W3C//DTD HTML 3.2//E
 N"><HTML><p>Step into a fairytale adventure with Nye Library&rsquo\;s&nbsp
 \;<em>Jake and the Bean Vine</em>&nbsp\;Escape Room!&nbsp\;</p>\n</HTML>
CREATED;TZID=America/Chicago:20260421T144531
URL;VALUE=URI:https://sill.armymwr.com/calendar/event
DTSTART;TZID=America/Chicago:20260725T103000
DTEND;TZID=America/Chicago:20260725T113000
SEQUENCE:16
END:VEVENT
BEGIN:VEVENT
UID:sabre-vobject-b533ca20-c54b-47b1-92cd-4ba825782de5
DTSTAMP:20260422T003217Z
SUMMARY:Escape Room: Bean Vine Digital
DESCRIPTION:Step into a fairytale adventure with Nye Library&rsquo\;s&nbsp\
 ;Jake and the Bean Vine&nbsp\;Escape Room!&nbsp\;\n
X-ALT-DESC:FMTTYPE=text/html:<!DOCTYPE HTML PUBLIC "-//W3C//DTD HTML 3.2//E
 N"><HTML><p>Step into a fairytale adventure with Nye Library&rsquo\;s&nbsp
 \;<em>Jake and the Bean Vine</em>&nbsp\;Escape Room!&nbsp\;</p>\n</HTML>
CREATED;TZID=America/Chicago:20260421T144531
URL;VALUE=URI:https://sill.armymwr.com/calendar/event
DTSTART;TZID=America/Chicago:20260725T143000
DTEND;TZID=America/Chicago:20260725T153000
SEQUENCE:17
END:VEVENT
BEGIN:VEVENT
UID:sabre-vobject-36e99514-ae93-48e0-bc99-ed527be4f7b0
DTSTAMP:20260422T003217Z
SUMMARY:Escape Room: Bean Vine Digital
DESCRIPTION:Step into a fairytale adventure with Nye Library&rsquo\;s&nbsp\
 ;Jake and the Bean Vine&nbsp\;Escape Room!&nbsp\;\n
X-ALT-DESC:FMTTYPE=text/html:<!DOCTYPE HTML PUBLIC "-//W3C//DTD HTML 3.2//E
 N"><HTML><p>Step into a fairytale adventure with Nye Library&rsquo\;s&nbsp
 \;<em>Jake and the Bean Vine</em>&nbsp\;Escape Room!&nbsp\;</p>\n</HTML>
CREATED;TZID=America/Chicago:20260421T144531
URL;VALUE=URI:https://sill.armymwr.com/calendar/event
DTSTART;TZID=America/Chicago:20260806T163000
DTEND;TZID=America/Chicago:20260806T173000
SEQUENCE:18
END:VEVENT
BEGIN:VEVENT
UID:sabre-vobject-13327793-62ba-4bf0-abba-48d3628eee28
DTSTAMP:20260422T003217Z
SUMMARY:Escape Room: Bean Vine Digital
DESCRIPTION:Step into a fairytale adventure with Nye Library&rsquo\;s&nbsp\
 ;Jake and the Bean Vine&nbsp\;Escape Room!&nbsp\;\n
X-ALT-DESC:FMTTYPE=text/html:<!DOCTYPE HTML PUBLIC "-//W3C//DTD HTML 3.2//E
 N"><HTML><p>Step into a fairytale adventure with Nye Library&rsquo\;s&nbsp
 \;<em>Jake and the Bean Vine</em>&nbsp\;Escape Room!&nbsp\;</p>\n</HTML>
CREATED;TZID=America/Chicago:20260421T144531
URL;VALUE=URI:https://sill.armymwr.com/calendar/event
DTSTART;TZID=America/Chicago:20260808T103000
DTEND;TZID=America/Chicago:20260808T113000
SEQUENCE:19
END:VEVENT
BEGIN:VEVENT
UID:sabre-vobject-e2f848c8-2e79-4a5f-9a13-d92c9173c818
DTSTAMP:20260422T003217Z
SUMMARY:Escape Room: Bean Vine Digital
DESCRIPTION:Step into a fairytale adventure with Nye Library&rsquo\;s&nbsp\
 ;Jake and the Bean Vine&nbsp\;Escape Room!&nbsp\;\n
X-ALT-DESC:FMTTYPE=text/html:<!DOCTYPE HTML PUBLIC "-//W3C//DTD HTML 3.2//E
 N"><HTML><p>Step into a fairytale adventure with Nye Library&rsquo\;s&nbsp
 \;<em>Jake and the Bean Vine</em>&nbsp\;Escape Room!&nbsp\;</p>\n</HTML>
CREATED;TZID=America/Chicago:20260421T144531
URL;VALUE=URI:https://sill.armymwr.com/calendar/event
DTSTART;TZID=America/Chicago:20260808T143000
DTEND;TZID=America/Chicago:20260808T153000
SEQUENCE:20
END:VEVENT
BEGIN:VEVENT
UID:sabre-vobject-7439d9f1-36ee-4c50-bfd1-847280511b5a
DTSTAMP:20260422T003217Z
SUMMARY:Escape Room: Bean Vine Digital
DESCRIPTION:Step into a fairytale adventure with Nye Library&rsquo\;s&nbsp\
 ;Jake and the Bean Vine&nbsp\;Escape Room!&nbsp\;\n
X-ALT-DESC:FMTTYPE=text/html:<!DOCTYPE HTML PUBLIC "-//W3C//DTD HTML 3.2//E
 N"><HTML><p>Step into a fairytale adventure with Nye Library&rsquo\;s&nbsp
 \;<em>Jake and the Bean Vine</em>&nbsp\;Escape Room!&nbsp\;</p>\n</HTML>
CREATED;TZID=America/Chicago:20260421T144531
URL;VALUE=URI:https://sill.armymwr.com/calendar/event
DTSTART;TZID=America/Chicago:20260813T163000
DTEND;TZID=America/Chicago:20260813T173000
SEQUENCE:21
END:VEVENT
BEGIN:VEVENT
UID:sabre-vobject-48dab4f7-acc6-4a40-aa07-f2ee025b2493
DTSTAMP:20260422T003217Z
SUMMARY:Escape Room: Bean Vine Digital
DESCRIPTION:Step into a fairytale adventure with Nye Library&rsquo\;s&nbsp\
 ;Jake and the Bean Vine&nbsp\;Escape Room!&nbsp\;\n
X-ALT-DESC:FMTTYPE=text/html:<!DOCTYPE HTML PUBLIC "-//W3C//DTD HTML 3.2//E
 N"><HTML><p>Step into a fairytale adventure with Nye Library&rsquo\;s&nbsp
 \;<em>Jake and the Bean Vine</em>&nbsp\;Escape Room!&nbsp\;</p>\n</HTML>
CREATED;TZID=America/Chicago:20260421T144531
URL;VALUE=URI:https://sill.armymwr.com/calendar/event
DTSTART;TZID=America/Chicago:20260820T163000
DTEND;TZID=America/Chicago:20260820T173000
SEQUENCE:22
END:VEVENT
BEGIN:VEVENT
UID:sabre-vobject-34a2a6a1-2b79-4db6-8280-bbf737d4e053
DTSTAMP:20260422T003217Z
SUMMARY:Escape Room: Bean Vine Digital
DESCRIPTION:Step into a fairytale adventure with Nye Library&rsquo\;s&nbsp\
 ;Jake and the Bean Vine&nbsp\;Escape Room!&nbsp\;\n
X-ALT-DESC:FMTTYPE=text/html:<!DOCTYPE HTML PUBLIC "-//W3C//DTD HTML 3.2//E
 N"><HTML><p>Step into a fairytale adventure with Nye Library&rsquo\;s&nbsp
 \;<em>Jake and the Bean Vine</em>&nbsp\;Escape Room!&nbsp\;</p>\n</HTML>
CREATED;TZID=America/Chicago:20260421T144531
URL;VALUE=URI:https://sill.armymwr.com/calendar/event
DTSTART;TZID=America/Chicago:20260822T103000
DTEND;TZID=America/Chicago:20260822T113000
SEQUENCE:23
END:VEVENT
BEGIN:VEVENT
UID:sabre-vobject-60bb2ff1-1cbd-4899-a71b-75e944a84265
DTSTAMP:20260422T003217Z
SUMMARY:Escape Room: Bean Vine Digital
DESCRIPTION:Step into a fairytale adventure with Nye Library&rsquo\;s&nbsp\
 ;Jake and the Bean Vine&nbsp\;Escape Room!&nbsp\;\n
X-ALT-DESC:FMTTYPE=text/html:<!DOCTYPE HTML PUBLIC "-//W3C//DTD HTML 3.2//E
 N"><HTML><p>Step into a fairytale adventure with Nye Library&rsquo\;s&nbsp
 \;<em>Jake and the Bean Vine</em>&nbsp\;Escape Room!&nbsp\;</p>\n</HTML>
CREATED;TZID=America/Chicago:20260421T144531
URL;VALUE=URI:https://sill.armymwr.com/calendar/event
DTSTART;TZID=America/Chicago:20260822T143000
DTEND;TZID=America/Chicago:20260822T153000
SEQUENCE:24
END:VEVENT
END:VCALENDAR
