BEGIN:VCALENDAR
VERSION:2.0
PRODID:-//Sabre//Sabre VObject 4.5.8//EN
CALSCALE:GREGORIAN
BEGIN:VEVENT
UID:sabre-vobject-bbfd484d-60df-495e-be22-5fcd9635d51b
DTSTAMP:20260424T015826Z
SUMMARY:Youth Escape Room: Jake and the Bean Vine
DESCRIPTION:Nye Library invites young adventurers to experience the&nbsp\;J
 ake and the Bean Vine!\n
X-ALT-DESC:FMTTYPE=text/html:<!DOCTYPE HTML PUBLIC "-//W3C//DTD HTML 3.2//E
 N"><HTML><p>Nye Library invites young adventurers to experience the&nbsp\;
 <em>Jake and the Bean Vine!</em></p>\n</HTML>
CREATED;TZID=America/Chicago:20260422T123406
URL;VALUE=URI:https://sill.armymwr.com/calendar/event
DTSTART;TZID=America/Chicago:20260526T103000
DTEND;TZID=America/Chicago:20260526T113000
SEQUENCE:0
END:VEVENT
BEGIN:VEVENT
UID:sabre-vobject-b77cc9df-0468-4af3-9560-715a7a83019b
DTSTAMP:20260424T015826Z
SUMMARY:Youth Escape Room: Jake and the Bean Vine
DESCRIPTION:Nye Library invites young adventurers to experience the&nbsp\;J
 ake and the Bean Vine!\n
X-ALT-DESC:FMTTYPE=text/html:<!DOCTYPE HTML PUBLIC "-//W3C//DTD HTML 3.2//E
 N"><HTML><p>Nye Library invites young adventurers to experience the&nbsp\;
 <em>Jake and the Bean Vine!</em></p>\n</HTML>
CREATED;TZID=America/Chicago:20260422T123406
URL;VALUE=URI:https://sill.armymwr.com/calendar/event
DTSTART;TZID=America/Chicago:20260526T143000
DTEND;TZID=America/Chicago:20260526T153000
SEQUENCE:1
END:VEVENT
BEGIN:VEVENT
UID:sabre-vobject-1118426b-a99c-4347-9e78-eaeaad9863cf
DTSTAMP:20260424T015826Z
SUMMARY:Youth Escape Room: Jake and the Bean Vine
DESCRIPTION:Nye Library invites young adventurers to experience the&nbsp\;J
 ake and the Bean Vine!\n
X-ALT-DESC:FMTTYPE=text/html:<!DOCTYPE HTML PUBLIC "-//W3C//DTD HTML 3.2//E
 N"><HTML><p>Nye Library invites young adventurers to experience the&nbsp\;
 <em>Jake and the Bean Vine!</em></p>\n</HTML>
CREATED;TZID=America/Chicago:20260422T123406
URL;VALUE=URI:https://sill.armymwr.com/calendar/event
DTSTART;TZID=America/Chicago:20260529T143000
DTEND;TZID=America/Chicago:20260529T153000
SEQUENCE:2
END:VEVENT
BEGIN:VEVENT
UID:sabre-vobject-5c603e88-fbc1-4eeb-b785-cf33dd0dc8e9
DTSTAMP:20260424T015826Z
SUMMARY:Youth Escape Room: Jake and the Bean Vine
DESCRIPTION:Nye Library invites young adventurers to experience the&nbsp\;J
 ake and the Bean Vine!\n
X-ALT-DESC:FMTTYPE=text/html:<!DOCTYPE HTML PUBLIC "-//W3C//DTD HTML 3.2//E
 N"><HTML><p>Nye Library invites young adventurers to experience the&nbsp\;
 <em>Jake and the Bean Vine!</em></p>\n</HTML>
CREATED;TZID=America/Chicago:20260422T123406
URL;VALUE=URI:https://sill.armymwr.com/calendar/event
DTSTART;TZID=America/Chicago:20260602T103000
DTEND;TZID=America/Chicago:20260602T113000
SEQUENCE:3
END:VEVENT
BEGIN:VEVENT
UID:sabre-vobject-fbb70bc8-d4a3-4ccc-a0e3-7e88c43fc2e0
DTSTAMP:20260424T015826Z
SUMMARY:Youth Escape Room: Jake and the Bean Vine
DESCRIPTION:Nye Library invites young adventurers to experience the&nbsp\;J
 ake and the Bean Vine!\n
X-ALT-DESC:FMTTYPE=text/html:<!DOCTYPE HTML PUBLIC "-//W3C//DTD HTML 3.2//E
 N"><HTML><p>Nye Library invites young adventurers to experience the&nbsp\;
 <em>Jake and the Bean Vine!</em></p>\n</HTML>
CREATED;TZID=America/Chicago:20260422T123406
URL;VALUE=URI:https://sill.armymwr.com/calendar/event
DTSTART;TZID=America/Chicago:20260602T143000
DTEND;TZID=America/Chicago:20260602T153000
SEQUENCE:4
END:VEVENT
BEGIN:VEVENT
UID:sabre-vobject-d3185d2c-3e25-4816-8fb9-3e4479bc80a9
DTSTAMP:20260424T015826Z
SUMMARY:Youth Escape Room: Jake and the Bean Vine
DESCRIPTION:Nye Library invites young adventurers to experience the&nbsp\;J
 ake and the Bean Vine!\n
X-ALT-DESC:FMTTYPE=text/html:<!DOCTYPE HTML PUBLIC "-//W3C//DTD HTML 3.2//E
 N"><HTML><p>Nye Library invites young adventurers to experience the&nbsp\;
 <em>Jake and the Bean Vine!</em></p>\n</HTML>
CREATED;TZID=America/Chicago:20260422T123406
URL;VALUE=URI:https://sill.armymwr.com/calendar/event
DTSTART;TZID=America/Chicago:20260605T143000
DTEND;TZID=America/Chicago:20260605T153000
SEQUENCE:5
END:VEVENT
BEGIN:VEVENT
UID:sabre-vobject-85b551eb-0a34-4057-983a-15d7ed36cb32
DTSTAMP:20260424T015826Z
SUMMARY:Youth Escape Room: Jake and the Bean Vine
DESCRIPTION:Nye Library invites young adventurers to experience the&nbsp\;J
 ake and the Bean Vine!\n
X-ALT-DESC:FMTTYPE=text/html:<!DOCTYPE HTML PUBLIC "-//W3C//DTD HTML 3.2//E
 N"><HTML><p>Nye Library invites young adventurers to experience the&nbsp\;
 <em>Jake and the Bean Vine!</em></p>\n</HTML>
CREATED;TZID=America/Chicago:20260422T123406
URL;VALUE=URI:https://sill.armymwr.com/calendar/event
DTSTART;TZID=America/Chicago:20260616T103000
DTEND;TZID=America/Chicago:20260616T113000
SEQUENCE:6
END:VEVENT
BEGIN:VEVENT
UID:sabre-vobject-5ec124a2-50c1-46cb-8289-3a7543a48185
DTSTAMP:20260424T015826Z
SUMMARY:Youth Escape Room: Jake and the Bean Vine
DESCRIPTION:Nye Library invites young adventurers to experience the&nbsp\;J
 ake and the Bean Vine!\n
X-ALT-DESC:FMTTYPE=text/html:<!DOCTYPE HTML PUBLIC "-//W3C//DTD HTML 3.2//E
 N"><HTML><p>Nye Library invites young adventurers to experience the&nbsp\;
 <em>Jake and the Bean Vine!</em></p>\n</HTML>
CREATED;TZID=America/Chicago:20260422T123406
URL;VALUE=URI:https://sill.armymwr.com/calendar/event
DTSTART;TZID=America/Chicago:20260616T143000
DTEND;TZID=America/Chicago:20260616T153000
SEQUENCE:7
END:VEVENT
BEGIN:VEVENT
UID:sabre-vobject-25809a30-33ef-48d2-992d-5d226603ad41
DTSTAMP:20260424T015826Z
SUMMARY:Youth Escape Room: Jake and the Bean Vine
DESCRIPTION:Nye Library invites young adventurers to experience the&nbsp\;J
 ake and the Bean Vine!\n
X-ALT-DESC:FMTTYPE=text/html:<!DOCTYPE HTML PUBLIC "-//W3C//DTD HTML 3.2//E
 N"><HTML><p>Nye Library invites young adventurers to experience the&nbsp\;
 <em>Jake and the Bean Vine!</em></p>\n</HTML>
CREATED;TZID=America/Chicago:20260422T123406
URL;VALUE=URI:https://sill.armymwr.com/calendar/event
DTSTART;TZID=America/Chicago:20260630T103000
DTEND;TZID=America/Chicago:20260630T113000
SEQUENCE:8
END:VEVENT
BEGIN:VEVENT
UID:sabre-vobject-fe30fa33-c9ee-4651-9b31-a76eaf734e63
DTSTAMP:20260424T015826Z
SUMMARY:Youth Escape Room: Jake and the Bean Vine
DESCRIPTION:Nye Library invites young adventurers to experience the&nbsp\;J
 ake and the Bean Vine!\n
X-ALT-DESC:FMTTYPE=text/html:<!DOCTYPE HTML PUBLIC "-//W3C//DTD HTML 3.2//E
 N"><HTML><p>Nye Library invites young adventurers to experience the&nbsp\;
 <em>Jake and the Bean Vine!</em></p>\n</HTML>
CREATED;TZID=America/Chicago:20260422T123406
URL;VALUE=URI:https://sill.armymwr.com/calendar/event
DTSTART;TZID=America/Chicago:20260630T143000
DTEND;TZID=America/Chicago:20260630T153000
SEQUENCE:9
END:VEVENT
BEGIN:VEVENT
UID:sabre-vobject-03c08e0d-dff0-4d45-a2f8-2e51ff024ffe
DTSTAMP:20260424T015826Z
SUMMARY:Youth Escape Room: Jake and the Bean Vine
DESCRIPTION:Nye Library invites young adventurers to experience the&nbsp\;J
 ake and the Bean Vine!\n
X-ALT-DESC:FMTTYPE=text/html:<!DOCTYPE HTML PUBLIC "-//W3C//DTD HTML 3.2//E
 N"><HTML><p>Nye Library invites young adventurers to experience the&nbsp\;
 <em>Jake and the Bean Vine!</em></p>\n</HTML>
CREATED;TZID=America/Chicago:20260422T123406
URL;VALUE=URI:https://sill.armymwr.com/calendar/event
DTSTART;TZID=America/Chicago:20260714T103000
DTEND;TZID=America/Chicago:20260714T113000
SEQUENCE:10
END:VEVENT
BEGIN:VEVENT
UID:sabre-vobject-86cb3dc0-e285-46eb-9999-ef9ef90bd004
DTSTAMP:20260424T015826Z
SUMMARY:Youth Escape Room: Jake and the Bean Vine
DESCRIPTION:Nye Library invites young adventurers to experience the&nbsp\;J
 ake and the Bean Vine!\n
X-ALT-DESC:FMTTYPE=text/html:<!DOCTYPE HTML PUBLIC "-//W3C//DTD HTML 3.2//E
 N"><HTML><p>Nye Library invites young adventurers to experience the&nbsp\;
 <em>Jake and the Bean Vine!</em></p>\n</HTML>
CREATED;TZID=America/Chicago:20260422T123406
URL;VALUE=URI:https://sill.armymwr.com/calendar/event
DTSTART;TZID=America/Chicago:20260714T143000
DTEND;TZID=America/Chicago:20260714T153000
SEQUENCE:11
END:VEVENT
BEGIN:VEVENT
UID:sabre-vobject-2caa7ba3-8f26-4873-9b43-e6a7214b59cf
DTSTAMP:20260424T015826Z
SUMMARY:Youth Escape Room: Jake and the Bean Vine
DESCRIPTION:Nye Library invites young adventurers to experience the&nbsp\;J
 ake and the Bean Vine!\n
X-ALT-DESC:FMTTYPE=text/html:<!DOCTYPE HTML PUBLIC "-//W3C//DTD HTML 3.2//E
 N"><HTML><p>Nye Library invites young adventurers to experience the&nbsp\;
 <em>Jake and the Bean Vine!</em></p>\n</HTML>
CREATED;TZID=America/Chicago:20260422T123406
URL;VALUE=URI:https://sill.armymwr.com/calendar/event
DTSTART;TZID=America/Chicago:20260728T103000
DTEND;TZID=America/Chicago:20260728T113000
SEQUENCE:12
END:VEVENT
BEGIN:VEVENT
UID:sabre-vobject-384689c4-cd5c-4e63-be86-1aaa0807abe8
DTSTAMP:20260424T015826Z
SUMMARY:Youth Escape Room: Jake and the Bean Vine
DESCRIPTION:Nye Library invites young adventurers to experience the&nbsp\;J
 ake and the Bean Vine!\n
X-ALT-DESC:FMTTYPE=text/html:<!DOCTYPE HTML PUBLIC "-//W3C//DTD HTML 3.2//E
 N"><HTML><p>Nye Library invites young adventurers to experience the&nbsp\;
 <em>Jake and the Bean Vine!</em></p>\n</HTML>
CREATED;TZID=America/Chicago:20260422T123406
URL;VALUE=URI:https://sill.armymwr.com/calendar/event
DTSTART;TZID=America/Chicago:20260728T143000
DTEND;TZID=America/Chicago:20260728T153000
SEQUENCE:13
END:VEVENT
BEGIN:VEVENT
UID:sabre-vobject-f82b128c-2c09-4cb7-a669-1583516fede0
DTSTAMP:20260424T015826Z
SUMMARY:Youth Escape Room: Jake and the Bean Vine
DESCRIPTION:Nye Library invites young adventurers to experience the&nbsp\;J
 ake and the Bean Vine!\n
X-ALT-DESC:FMTTYPE=text/html:<!DOCTYPE HTML PUBLIC "-//W3C//DTD HTML 3.2//E
 N"><HTML><p>Nye Library invites young adventurers to experience the&nbsp\;
 <em>Jake and the Bean Vine!</em></p>\n</HTML>
CREATED;TZID=America/Chicago:20260422T123406
URL;VALUE=URI:https://sill.armymwr.com/calendar/event
DTSTART;TZID=America/Chicago:20260731T143000
DTEND;TZID=America/Chicago:20260731T153000
SEQUENCE:14
END:VEVENT
END:VCALENDAR
