BEGIN:VCALENDAR
VERSION:2.0
PRODID:-//Sabre//Sabre VObject 4.5.8//EN
CALSCALE:GREGORIAN
BEGIN:VEVENT
UID:sabre-vobject-fdc02e1a-4905-48b1-a7c7-43b6db0f95b6
DTSTAMP:20260422T093532Z
SUMMARY:Indoor Cycling with Jonathan
DESCRIPTION:Burn more calories in a shorter amount of time.\n
X-ALT-DESC:FMTTYPE=text/html:<!DOCTYPE HTML PUBLIC "-//W3C//DTD HTML 3.2//E
 N"><HTML><p>Burn more calories in a shorter amount of time.</p>\n</HTML>
CREATED;TZID=America/Chicago:20180909T113118
URL;VALUE=URI:https://sill.armymwr.com/calendar/event
DTSTART;TZID=America/Chicago:20180702T173000
DTEND;TZID=America/Chicago:20180702T183000
SEQUENCE:0
END:VEVENT
END:VCALENDAR
