BEGIN:VCALENDAR
VERSION:2.0
PRODID:-//Sabre//Sabre VObject 4.5.8//EN
CALSCALE:GREGORIAN
BEGIN:VEVENT
UID:sabre-vobject-d781d939-3397-49bb-9d33-15bd44f422fa
DTSTAMP:20260424T105936Z
SUMMARY:Summer Reading Program - Pre-Reader 
DESCRIPTION:Earn prizes&nbsp\;for reading over summer.&nbsp\;\n
X-ALT-DESC:FMTTYPE=text/html:<!DOCTYPE HTML PUBLIC "-//W3C//DTD HTML 3.2//E
 N"><HTML><p>Earn prizes&nbsp\;for reading over summer.&nbsp\;</p>\n</HTML>
CREATED;TZID=America/Chicago:20180509T110613
URL;VALUE=URI:https://sill.armymwr.com/calendar/event
DTSTART;TZID=America/Chicago:20180530T110000
DTEND;TZID=America/Chicago:20180530T120000
SEQUENCE:0
END:VEVENT
END:VCALENDAR
