BEGIN:VCALENDAR
VERSION:2.0
PRODID:-//Sabre//Sabre VObject 4.5.8//EN
CALSCALE:GREGORIAN
BEGIN:VEVENT
UID:sabre-vobject-0c7f546c-77b0-4b58-b0a5-6800b85f5460
DTSTAMP:20260424T063928Z
SUMMARY:Summer Reading Program - 3rd-6th Grade 
DESCRIPTION:Earn prizes&nbsp\;for reading over summer.&nbsp\;\n
X-ALT-DESC:FMTTYPE=text/html:<!DOCTYPE HTML PUBLIC "-//W3C//DTD HTML 3.2//E
 N"><HTML><p>Earn prizes&nbsp\;for reading over summer.&nbsp\;</p>\n</HTML>
CREATED;TZID=America/Chicago:20180509T114941
URL;VALUE=URI:https://sill.armymwr.com/calendar/event
DTSTART;TZID=America/Chicago:20180531T140000
DTEND;TZID=America/Chicago:20180531T150000
SEQUENCE:0
END:VEVENT
END:VCALENDAR
