BEGIN:VCALENDAR
VERSION:2.0
PRODID:-//Sabre//Sabre VObject 4.5.8//EN
CALSCALE:GREGORIAN
BEGIN:VEVENT
UID:sabre-vobject-a163c546-9387-45cf-9f88-f258cc70a7fd
DTSTAMP:20260424T105938Z
SUMMARY:Girls Weight Lifting 101 (13+ Years)
DESCRIPTION:CYS Youth Sports &amp\; Fitness offering NEW fitness classes\n
X-ALT-DESC:FMTTYPE=text/html:<!DOCTYPE HTML PUBLIC "-//W3C//DTD HTML 3.2//E
 N"><HTML><p>CYS Youth Sports &amp\; Fitness offering NEW fitness classes</
 p>\n</HTML>
CREATED;TZID=America/Chicago:20180522T153906
URL;VALUE=URI:https://sill.armymwr.com/calendar/event
DTSTART;TZID=America/Chicago:20180605T150000
DTEND;TZID=America/Chicago:20180605T160000
SEQUENCE:0
END:VEVENT
END:VCALENDAR
