BEGIN:VCALENDAR
VERSION:2.0
PRODID:-//Sabre//Sabre VObject 4.5.8//EN
CALSCALE:GREGORIAN
BEGIN:VEVENT
UID:sabre-vobject-e82c7da1-4c08-4452-8bef-9c96cd7fbbfa
DTSTAMP:20260424T105939Z
SUMMARY:Boys Weight Lifting 101 (13+ Years)
DESCRIPTION:CYS Youth Sports &amp\; Fitness offering NEW fitness classes\n
X-ALT-DESC:FMTTYPE=text/html:<!DOCTYPE HTML PUBLIC "-//W3C//DTD HTML 3.2//E
 N"><HTML><p>CYS Youth Sports &amp\; Fitness offering NEW fitness classes</
 p>\n</HTML>
CREATED;TZID=America/Chicago:20180522T155031
URL;VALUE=URI:https://sill.armymwr.com/calendar/event
DTSTART;TZID=America/Chicago:20180604T150000
DTEND;TZID=America/Chicago:20180604T160000
SEQUENCE:0
END:VEVENT
END:VCALENDAR
