BEGIN:VCALENDAR
VERSION:2.0
PRODID:-//Sabre//Sabre VObject 4.5.8//EN
CALSCALE:GREGORIAN
BEGIN:VEVENT
UID:sabre-vobject-a6066945-c489-48f2-8fd3-ef959ddde8e7
DTSTAMP:20260425T005301Z
SUMMARY:Summer Weight Training (8+ Years) 
DESCRIPTION:CYS Youth Sports &amp\; Fitness offering NEW fitness classes\n
X-ALT-DESC:FMTTYPE=text/html:<!DOCTYPE HTML PUBLIC "-//W3C//DTD HTML 3.2//E
 N"><HTML><p>CYS Youth Sports &amp\; Fitness offering NEW fitness classes</
 p>\n</HTML>
CREATED;TZID=America/Chicago:20180523T100704
URL;VALUE=URI:https://sill.armymwr.com/calendar/event
DTSTART;TZID=America/Chicago:20180604T133000
DTEND;TZID=America/Chicago:20180604T140000
SEQUENCE:0
END:VEVENT
END:VCALENDAR
