BEGIN:VCALENDAR
VERSION:2.0
PRODID:-//Sabre//Sabre VObject 4.5.8//EN
CALSCALE:GREGORIAN
BEGIN:VEVENT
UID:sabre-vobject-13e538bc-5c42-4fed-a733-d5d9be4789b4
DTSTAMP:20260425T201840Z
SUMMARY:Dads on Duty: Kid's Zumba
DESCRIPTION:Join the Family Advocacy Program as we celebrate the resiliency
  of fathers during the month of June.\n
X-ALT-DESC:FMTTYPE=text/html:<!DOCTYPE HTML PUBLIC "-//W3C//DTD HTML 3.2//E
 N"><HTML><p>Join the Family Advocacy Program as we celebrate the resilienc
 y of fathers during the month of June.</p>\n</HTML>
CREATED;TZID=America/Chicago:20180524T143116
URL;VALUE=URI:https://sill.armymwr.com/calendar/event
DTSTART;TZID=America/Chicago:20180623T140000
DTEND;TZID=America/Chicago:20180623T150000
SEQUENCE:0
END:VEVENT
END:VCALENDAR
