BEGIN:VCALENDAR
VERSION:2.0
PRODID:-//Sabre//Sabre VObject 4.5.8//EN
CALSCALE:GREGORIAN
BEGIN:VEVENT
UID:sabre-vobject-7abfb519-75f9-46c0-b393-89ecbc55681c
DTSTAMP:20260425T035829Z
SUMMARY:Dads on Duty: Exploring the Parks
DESCRIPTION:Join the Family Advocacy Program as we celebrate the resiliency
  of fathers during the month of June.\n
X-ALT-DESC:FMTTYPE=text/html:<!DOCTYPE HTML PUBLIC "-//W3C//DTD HTML 3.2//E
 N"><HTML><p>Join the Family Advocacy Program as we celebrate the resilienc
 y of fathers during the month of June.</p>\n</HTML>
CREATED;TZID=America/Chicago:20180524T161608
URL;VALUE=URI:https://sill.armymwr.com/calendar/event
DTSTART;TZID=America/Chicago:20180605T110000
DTEND;TZID=America/Chicago:20180605T120000
SEQUENCE:0
END:VEVENT
BEGIN:VEVENT
UID:sabre-vobject-915a71e9-7349-4202-a701-91d677c57704
DTSTAMP:20260425T035829Z
SUMMARY:Dads on Duty: Exploring the Parks
DESCRIPTION:Join the Family Advocacy Program as we celebrate the resiliency
  of fathers during the month of June.\n
X-ALT-DESC:FMTTYPE=text/html:<!DOCTYPE HTML PUBLIC "-//W3C//DTD HTML 3.2//E
 N"><HTML><p>Join the Family Advocacy Program as we celebrate the resilienc
 y of fathers during the month of June.</p>\n</HTML>
CREATED;TZID=America/Chicago:20180524T161608
URL;VALUE=URI:https://sill.armymwr.com/calendar/event
DTSTART;TZID=America/Chicago:20180612T093000
DTEND;TZID=America/Chicago:20180612T103000
SEQUENCE:1
END:VEVENT
BEGIN:VEVENT
UID:sabre-vobject-87642d82-e72c-4acd-941c-a089676423e1
DTSTAMP:20260425T035829Z
SUMMARY:Dads on Duty: Exploring the Parks
DESCRIPTION:Join the Family Advocacy Program as we celebrate the resiliency
  of fathers during the month of June.\n
X-ALT-DESC:FMTTYPE=text/html:<!DOCTYPE HTML PUBLIC "-//W3C//DTD HTML 3.2//E
 N"><HTML><p>Join the Family Advocacy Program as we celebrate the resilienc
 y of fathers during the month of June.</p>\n</HTML>
CREATED;TZID=America/Chicago:20180524T161608
URL;VALUE=URI:https://sill.armymwr.com/calendar/event
DTSTART;TZID=America/Chicago:20180619T110000
DTEND;TZID=America/Chicago:20180619T120000
SEQUENCE:2
END:VEVENT
BEGIN:VEVENT
UID:sabre-vobject-8d4b798d-fba5-424b-8e13-dc063e91bf85
DTSTAMP:20260425T035829Z
SUMMARY:Dads on Duty: Exploring the Parks
DESCRIPTION:Join the Family Advocacy Program as we celebrate the resiliency
  of fathers during the month of June.\n
X-ALT-DESC:FMTTYPE=text/html:<!DOCTYPE HTML PUBLIC "-//W3C//DTD HTML 3.2//E
 N"><HTML><p>Join the Family Advocacy Program as we celebrate the resilienc
 y of fathers during the month of June.</p>\n</HTML>
CREATED;TZID=America/Chicago:20180524T161608
URL;VALUE=URI:https://sill.armymwr.com/calendar/event
DTSTART;TZID=America/Chicago:20180626T093000
DTEND;TZID=America/Chicago:20180626T103000
SEQUENCE:3
END:VEVENT
END:VCALENDAR
