BEGIN:VCALENDAR
VERSION:2.0
PRODID:-//Sabre//Sabre VObject 4.5.8//EN
CALSCALE:GREGORIAN
BEGIN:VEVENT
UID:sabre-vobject-8521550b-2a10-4204-85f1-ef9cdd4729cb
DTSTAMP:20260425T165253Z
SUMMARY:Father's Day Card Workshop Copy
DESCRIPTION:Children can make Father&#39\;s Day cards for Dad\, grandpa&nbs
 p\;or uncle.\n
X-ALT-DESC:FMTTYPE=text/html:<!DOCTYPE HTML PUBLIC "-//W3C//DTD HTML 3.2//E
 N"><HTML><p>Children can make Father&#39\;s Day cards for Dad\, grandpa&nb
 sp\;or uncle.</p>\n</HTML>
CREATED;TZID=America/Chicago:20180604T093447
URL;VALUE=URI:https://sill.armymwr.com/calendar/event
DTSTART;TZID=America/Chicago:20180616T130000
DTEND;TZID=America/Chicago:20180616T150000
SEQUENCE:0
END:VEVENT
END:VCALENDAR
