BEGIN:VCALENDAR
VERSION:2.0
PRODID:-//Sabre//Sabre VObject 4.5.8//EN
CALSCALE:GREGORIAN
BEGIN:VEVENT
UID:sabre-vobject-9c79c1c2-d1c5-492b-b06a-c549664cd070
DTSTAMP:20260425T103222Z
SUMMARY:Power Ride with Rick
DESCRIPTION:An intense indoor cycling class where you control the resistanc
 e! \n
X-ALT-DESC:FMTTYPE=text/html:<!DOCTYPE HTML PUBLIC "-//W3C//DTD HTML 3.2//E
 N"><HTML><p>An intense indoor cycling class where you control the resistan
 ce!<span style="font-size:11.0pt\;font-family:Calibri\;\nmso-ascii-font-fa
 mily:Calibri\;mso-fareast-font-family:+mn-ea\;mso-bidi-font-family:\n+mn-c
 s\;color:black\;mso-color-index:1\;mso-font-kerning:12.0pt\;language:en-US
 "> </span></p>\n</HTML>
CREATED;TZID=America/Chicago:20180629T132209
URL;VALUE=URI:https://sill.armymwr.com/calendar/event
DTSTART;TZID=America/Chicago:20171202T153000
DTEND;TZID=America/Chicago:20171202T163000
SEQUENCE:0
END:VEVENT
END:VCALENDAR
