BEGIN:VCALENDAR
VERSION:2.0
PRODID:-//Sabre//Sabre VObject 4.5.8//EN
CALSCALE:GREGORIAN
BEGIN:VEVENT
UID:sabre-vobject-332b6289-a231-4808-8b8f-d1dcbf5f63e5
DTSTAMP:20260421T023145Z
SUMMARY:Kayak Tours
DESCRIPTION:Enjoy a relaxing kayak tour with amazing views on the beautiful
  Lake Elmer Thomas.&nbsp\;\n
X-ALT-DESC:FMTTYPE=text/html:<!DOCTYPE HTML PUBLIC "-//W3C//DTD HTML 3.2//E
 N"><HTML><p>Enjoy a relaxing kayak tour with amazing views on the beautifu
 l Lake Elmer Thomas.&nbsp\;</p>\n</HTML>
CREATED;TZID=America/Chicago:20180608T142807
URL;VALUE=URI:https://sill.armymwr.com/calendar/event
DTSTART;TZID=America/Chicago:20180616T180000
DTEND;TZID=America/Chicago:20180616T193000
SEQUENCE:0
END:VEVENT
BEGIN:VEVENT
UID:sabre-vobject-d9aa62fe-84a6-4cfc-b794-95141586bff0
DTSTAMP:20260421T023145Z
SUMMARY:Kayak Tours
DESCRIPTION:Enjoy a relaxing kayak tour with amazing views on the beautiful
  Lake Elmer Thomas.&nbsp\;\n
X-ALT-DESC:FMTTYPE=text/html:<!DOCTYPE HTML PUBLIC "-//W3C//DTD HTML 3.2//E
 N"><HTML><p>Enjoy a relaxing kayak tour with amazing views on the beautifu
 l Lake Elmer Thomas.&nbsp\;</p>\n</HTML>
CREATED;TZID=America/Chicago:20180608T142807
URL;VALUE=URI:https://sill.armymwr.com/calendar/event
DTSTART;TZID=America/Chicago:20180707T180000
DTEND;TZID=America/Chicago:20180707T193000
SEQUENCE:1
END:VEVENT
BEGIN:VEVENT
UID:sabre-vobject-e50995a2-fce6-4ea8-a0e5-e19243e6a13d
DTSTAMP:20260421T023145Z
SUMMARY:Kayak Tours
DESCRIPTION:Enjoy a relaxing kayak tour with amazing views on the beautiful
  Lake Elmer Thomas.&nbsp\;\n
X-ALT-DESC:FMTTYPE=text/html:<!DOCTYPE HTML PUBLIC "-//W3C//DTD HTML 3.2//E
 N"><HTML><p>Enjoy a relaxing kayak tour with amazing views on the beautifu
 l Lake Elmer Thomas.&nbsp\;</p>\n</HTML>
CREATED;TZID=America/Chicago:20180608T142807
URL;VALUE=URI:https://sill.armymwr.com/calendar/event
DTSTART;TZID=America/Chicago:20180721T180000
DTEND;TZID=America/Chicago:20180721T193000
SEQUENCE:2
END:VEVENT
BEGIN:VEVENT
UID:sabre-vobject-ef8999e3-d54b-4ba2-ab07-2e0cd8405b5a
DTSTAMP:20260421T023145Z
SUMMARY:Kayak Tours
DESCRIPTION:Enjoy a relaxing kayak tour with amazing views on the beautiful
  Lake Elmer Thomas.&nbsp\;\n
X-ALT-DESC:FMTTYPE=text/html:<!DOCTYPE HTML PUBLIC "-//W3C//DTD HTML 3.2//E
 N"><HTML><p>Enjoy a relaxing kayak tour with amazing views on the beautifu
 l Lake Elmer Thomas.&nbsp\;</p>\n</HTML>
CREATED;TZID=America/Chicago:20180608T142807
URL;VALUE=URI:https://sill.armymwr.com/calendar/event
DTSTART;TZID=America/Chicago:20180804T180000
DTEND;TZID=America/Chicago:20180804T193000
SEQUENCE:3
END:VEVENT
BEGIN:VEVENT
UID:sabre-vobject-1d83aab5-5f36-474d-92b1-ff743b4a3793
DTSTAMP:20260421T023145Z
SUMMARY:Kayak Tours
DESCRIPTION:Enjoy a relaxing kayak tour with amazing views on the beautiful
  Lake Elmer Thomas.&nbsp\;\n
X-ALT-DESC:FMTTYPE=text/html:<!DOCTYPE HTML PUBLIC "-//W3C//DTD HTML 3.2//E
 N"><HTML><p>Enjoy a relaxing kayak tour with amazing views on the beautifu
 l Lake Elmer Thomas.&nbsp\;</p>\n</HTML>
CREATED;TZID=America/Chicago:20180608T142807
URL;VALUE=URI:https://sill.armymwr.com/calendar/event
DTSTART;TZID=America/Chicago:20180818T180000
DTEND;TZID=America/Chicago:20180818T193000
SEQUENCE:4
END:VEVENT
BEGIN:VEVENT
UID:sabre-vobject-2e30a460-5e47-4893-9700-8e430616d366
DTSTAMP:20260421T023145Z
SUMMARY:Kayak Tours
DESCRIPTION:Enjoy a relaxing kayak tour with amazing views on the beautiful
  Lake Elmer Thomas.&nbsp\;\n
X-ALT-DESC:FMTTYPE=text/html:<!DOCTYPE HTML PUBLIC "-//W3C//DTD HTML 3.2//E
 N"><HTML><p>Enjoy a relaxing kayak tour with amazing views on the beautifu
 l Lake Elmer Thomas.&nbsp\;</p>\n</HTML>
CREATED;TZID=America/Chicago:20180608T142807
URL;VALUE=URI:https://sill.armymwr.com/calendar/event
DTSTART;TZID=America/Chicago:20180901T180000
DTEND;TZID=America/Chicago:20180901T193000
SEQUENCE:5
END:VEVENT
BEGIN:VEVENT
UID:sabre-vobject-bb37d23b-f418-4a82-a1a3-946f06ccc92c
DTSTAMP:20260421T023145Z
SUMMARY:Kayak Tours
DESCRIPTION:Enjoy a relaxing kayak tour with amazing views on the beautiful
  Lake Elmer Thomas.&nbsp\;\n
X-ALT-DESC:FMTTYPE=text/html:<!DOCTYPE HTML PUBLIC "-//W3C//DTD HTML 3.2//E
 N"><HTML><p>Enjoy a relaxing kayak tour with amazing views on the beautifu
 l Lake Elmer Thomas.&nbsp\;</p>\n</HTML>
CREATED;TZID=America/Chicago:20180608T142807
URL;VALUE=URI:https://sill.armymwr.com/calendar/event
DTSTART;TZID=America/Chicago:20180915T180000
DTEND;TZID=America/Chicago:20180915T193000
SEQUENCE:6
END:VEVENT
END:VCALENDAR
