BEGIN:VCALENDAR
VERSION:2.0
PRODID:-//Sabre//Sabre VObject 4.5.8//EN
CALSCALE:GREGORIAN
BEGIN:VEVENT
UID:sabre-vobject-caf626ab-c024-4f3e-998f-44448dc18a41
DTSTAMP:20260424T105937Z
SUMMARY:Book Club
DESCRIPTION:Adults interested in reading and discussing literature with the
 ir peers are welcome to join the book club.\n
X-ALT-DESC:FMTTYPE=text/html:<!DOCTYPE HTML PUBLIC "-//W3C//DTD HTML 3.2//E
 N"><HTML><p>Adults interested in reading and discussing literature with th
 eir peers are welcome to join the book club.</p>\n</HTML>
CREATED;TZID=America/Chicago:20180611T090004
URL;VALUE=URI:https://sill.armymwr.com/calendar/event
DTSTART;TZID=America/Chicago:20180714T153000
DTEND;TZID=America/Chicago:20180714T164500
SEQUENCE:0
END:VEVENT
END:VCALENDAR
