BEGIN:VCALENDAR
VERSION:2.0
PRODID:-//Sabre//Sabre VObject 4.5.8//EN
CALSCALE:GREGORIAN
BEGIN:VEVENT
UID:sabre-vobject-85994a39-8631-4e67-af2e-04c4a981581c
DTSTAMP:20260424T112010Z
SUMMARY:Army Entertainment Comedy Tour
DESCRIPTION:Army Entertainment Comedy Tour is BACK! And this time we are ha
 ving&nbsp\;Comedian and actor Carlos Mencia with special guests Jordan Roc
 k and Trish Suhr.&nbsp\;\n
X-ALT-DESC:FMTTYPE=text/html:<!DOCTYPE HTML PUBLIC "-//W3C//DTD HTML 3.2//E
 N"><HTML><p>Army Entertainment Comedy Tour is BACK! And this time we are h
 aving&nbsp\;Comedian and actor Carlos Mencia with special guests Jordan Ro
 ck and Trish Suhr.&nbsp\;</p>\n</HTML>
CREATED;TZID=America/Chicago:20180713T161041
URL;VALUE=URI:https://sill.armymwr.com/calendar/event
DTSTART;TZID=America/Chicago:20180727T190000
DTEND;TZID=America/Chicago:20180727T210000
SEQUENCE:0
END:VEVENT
END:VCALENDAR
