BEGIN:VCALENDAR
VERSION:2.0
PRODID:-//Sabre//Sabre VObject 4.5.8//EN
CALSCALE:GREGORIAN
BEGIN:VEVENT
UID:sabre-vobject-203ee75e-0aca-40eb-800a-4bbdfe05a9f2
DTSTAMP:20260425T000354Z
SUMMARY:NAF Property Sale & Sealed Bid
DESCRIPTION:The NAF Property Sale will take place at the NAF Property Wareh
 ouse (Bldg. 3328) on&nbsp\;Thursday\, June 28 and Friday\, June 29.\n&nbsp
 \;\n
X-ALT-DESC:FMTTYPE=text/html:<!DOCTYPE HTML PUBLIC "-//W3C//DTD HTML 3.2//E
 N"><HTML><p>The NAF Property Sale will take place at the NAF Property Ware
 house (Bldg. 3328) on&nbsp\;Thursday\, June 28 and Friday\, June 29.<br />
 \n&nbsp\;</p>\n</HTML>
CREATED;TZID=America/Chicago:20180615T114255
URL;VALUE=URI:https://sill.armymwr.com/calendar/event
DTSTART;TZID=America/Chicago:20180628T100000
DTEND;TZID=America/Chicago:20180628T140000
SEQUENCE:0
END:VEVENT
END:VCALENDAR
