BEGIN:VCALENDAR
VERSION:2.0
PRODID:-//Sabre//Sabre VObject 4.5.8//EN
CALSCALE:GREGORIAN
BEGIN:VEVENT
UID:sabre-vobject-0a4882ab-e06c-4e4b-882b-2016f14b22dd
DTSTAMP:20260424T161553Z
SUMMARY:Thunder Youth Basketball Clinic
DESCRIPTION:Children ages 8-18 are invited to learn basketball fundamentals
  and team building from the best: OKC Thunder.\n
X-ALT-DESC:FMTTYPE=text/html:<!DOCTYPE HTML PUBLIC "-//W3C//DTD HTML 3.2//E
 N"><HTML><p>Children ages 8-18 are invited to learn basketball fundamental
 s and team building from the best: OKC Thunder.</p>\n</HTML>
CREATED;TZID=America/Chicago:20180615T122804
URL;VALUE=URI:https://sill.armymwr.com/calendar/event
DTSTART;TZID=America/Chicago:20180802T160000
DTEND;TZID=America/Chicago:20180802T170000
SEQUENCE:0
END:VEVENT
END:VCALENDAR
