BEGIN:VCALENDAR
VERSION:2.0
PRODID:-//Sabre//Sabre VObject 4.5.8//EN
CALSCALE:GREGORIAN
BEGIN:VEVENT
UID:sabre-vobject-bbb8be58-7d29-48cb-a863-250a1a81cc17
DTSTAMP:20260423T163015Z
SUMMARY:Fall Youth Soccer - Registrarion Deadline
DESCRIPTION:Children ages 3-12 will practice and play on Fort Sill&#39\;s P
 richard Field.\n
X-ALT-DESC:FMTTYPE=text/html:<!DOCTYPE HTML PUBLIC "-//W3C//DTD HTML 3.2//E
 N"><HTML><p>Children ages 3-12 will practice and play on Fort Sill&#39\;s 
 Prichard Field.</p>\n</HTML>
CREATED;TZID=America/Chicago:20180621T124516
URL;VALUE=URI:https://sill.armymwr.com/calendar/event
DTSTART;TZID=America/Chicago:20180815T000000
DTEND;TZID=America/Chicago:20180815T235959
SEQUENCE:0
END:VEVENT
END:VCALENDAR
