BEGIN:VCALENDAR
VERSION:2.0
PRODID:-//Sabre//Sabre VObject 4.5.8//EN
CALSCALE:GREGORIAN
BEGIN:VEVENT
UID:sabre-vobject-aa962a37-1287-49eb-ae15-65beaee8af1b
DTSTAMP:20260422T093531Z
SUMMARY:100th Anniversary of Henry Post Army Airfield - Fort Sill Airshow
DESCRIPTION:This is your chance to see historic aircraft. The airshow will 
 feature over 20 aircraft displays\, 15 flight demonstrations.\n
X-ALT-DESC:FMTTYPE=text/html:<!DOCTYPE HTML PUBLIC "-//W3C//DTD HTML 3.2//E
 N"><HTML><p>This is your chance to see historic aircraft. The airshow will
  feature over 20 aircraft displays\, 15 flight demonstrations.</p>\n</HTML
 >
CREATED;TZID=America/Chicago:20180816T114331
URL;VALUE=URI:https://sill.armymwr.com/calendar/event
DTSTART;TZID=America/Chicago:20180901T100000
DTEND;TZID=America/Chicago:20180901T160000
SEQUENCE:0
END:VEVENT
END:VCALENDAR
