BEGIN:VCALENDAR
VERSION:2.0
PRODID:-//Sabre//Sabre VObject 4.5.8//EN
CALSCALE:GREGORIAN
BEGIN:VEVENT
UID:sabre-vobject-4459ffb9-16f3-41fb-9d93-e074c5cecbe6
DTSTAMP:20260421T022053Z
SUMMARY:Multi-Gun Championship - Cancelled 
DESCRIPTION:The 2018 Fort Sill Multi-Gun Championship has been cancelled du
 e to unforeseen changes in requirements.\n
X-ALT-DESC:FMTTYPE=text/html:<!DOCTYPE HTML PUBLIC "-//W3C//DTD HTML 3.2//E
 N"><HTML><p>The 2018 Fort Sill Multi-Gun Championship has been cancelled d
 ue to unforeseen changes in requirements.</p>\n</HTML>
CREATED;TZID=America/Chicago:20180817T155225
URL;VALUE=URI:https://sill.armymwr.com/calendar/event
DTSTART;TZID=America/Chicago:20180915T000000
DTEND;TZID=America/Chicago:20180916T235959
SEQUENCE:0
END:VEVENT
END:VCALENDAR
