BEGIN:VCALENDAR
VERSION:2.0
PRODID:-//Sabre//Sabre VObject 4.5.8//EN
CALSCALE:GREGORIAN
BEGIN:VEVENT
UID:sabre-vobject-40d4766f-a429-491b-b0e1-1bee95ebf58e
DTSTAMP:20260421T151023Z
SUMMARY:Bass Tournament
DESCRIPTION:Come out and join us for our Bass Tournament!&nbsp\;\n
X-ALT-DESC:FMTTYPE=text/html:<!DOCTYPE HTML PUBLIC "-//W3C//DTD HTML 3.2//E
 N"><HTML><p><span style="color: rgb(29\, 33\, 41)\; font-family: Helvetica
 \, Arial\, sans-serif\; font-size: 14px\; font-style: normal\; font-varian
 t-ligatures: normal\; font-variant-caps: normal\; font-weight: 400\; lette
 r-spacing: normal\; orphans: 2\; text-align: start\; text-indent: 0px\; te
 xt-transform: none\; white-space: normal\; widows: 2\; word-spacing: 0px\;
  -webkit-text-stroke-width: 0px\; background-color: rgb(255\, 255\, 255)\;
  text-decoration-style: initial\; text-decoration-color: initial\; display
 : inline !important\; float: none\;">Come out and join us for our Bass Tou
 rnament!&nbsp\;</span></p>\n</HTML>
CREATED;TZID=America/Chicago:20180820T130010
URL;VALUE=URI:https://sill.armymwr.com/calendar/event
DTSTART;TZID=America/Chicago:20180915T060000
DTEND;TZID=America/Chicago:20180915T120000
SEQUENCE:0
END:VEVENT
END:VCALENDAR
