BEGIN:VCALENDAR
VERSION:2.0
PRODID:-//Sabre//Sabre VObject 4.5.8//EN
CALSCALE:GREGORIAN
BEGIN:VEVENT
UID:sabre-vobject-e0a66d84-37c6-464b-bd44-cb4153060967
DTSTAMP:20260424T143723Z
SUMMARY:LETRA Wine & Paint 
DESCRIPTION:Test your artistic abilities and create your own masterpiece!\n
 \n&nbsp\;\n
X-ALT-DESC:FMTTYPE=text/html:<!DOCTYPE HTML PUBLIC "-//W3C//DTD HTML 3.2//E
 N"><HTML><p>Test your artistic abilities and create your own masterpiece!<
 /p>\n\n<p>&nbsp\;</p>\n</HTML>
CREATED;TZID=America/Chicago:20240328T092009
URL;VALUE=URI:https://sill.armymwr.com/calendar/event
DTSTART;TZID=America/Chicago:20240419T190000
DTEND;TZID=America/Chicago:20240419T200000
SEQUENCE:0
END:VEVENT
BEGIN:VEVENT
UID:sabre-vobject-e9c3c2dc-1bf0-4cf7-b7a8-2c55c234814e
DTSTAMP:20260424T143723Z
SUMMARY:LETRA Wine & Paint 
DESCRIPTION:Test your artistic abilities and create your own masterpiece!\n
 \n&nbsp\;\n
X-ALT-DESC:FMTTYPE=text/html:<!DOCTYPE HTML PUBLIC "-//W3C//DTD HTML 3.2//E
 N"><HTML><p>Test your artistic abilities and create your own masterpiece!<
 /p>\n\n<p>&nbsp\;</p>\n</HTML>
CREATED;TZID=America/Chicago:20240328T092009
URL;VALUE=URI:https://sill.armymwr.com/calendar/event
DTSTART;TZID=America/Chicago:20240816T090000
DTEND;TZID=America/Chicago:20240816T100000
SEQUENCE:1
END:VEVENT
BEGIN:VEVENT
UID:sabre-vobject-404d253b-d227-4a86-8478-685b5439c5ce
DTSTAMP:20260424T143723Z
SUMMARY:LETRA Wine & Paint 
DESCRIPTION:Test your artistic abilities and create your own masterpiece!\n
 \n&nbsp\;\n
X-ALT-DESC:FMTTYPE=text/html:<!DOCTYPE HTML PUBLIC "-//W3C//DTD HTML 3.2//E
 N"><HTML><p>Test your artistic abilities and create your own masterpiece!<
 /p>\n\n<p>&nbsp\;</p>\n</HTML>
CREATED;TZID=America/Chicago:20240328T092009
URL;VALUE=URI:https://sill.armymwr.com/calendar/event
DTSTART;TZID=America/Chicago:20241011T090000
DTEND;TZID=America/Chicago:20241011T100000
SEQUENCE:2
END:VEVENT
END:VCALENDAR
