BEGIN:VCALENDAR
VERSION:2.0
PRODID:-//Sabre//Sabre VObject 4.5.8//EN
CALSCALE:GREGORIAN
BEGIN:VEVENT
UID:sabre-vobject-d76ca457-af38-4751-a0c4-fb13e1f02845
DTSTAMP:20260424T114643Z
SUMMARY:Army vs Navy Game
DESCRIPTION:Come out to the Patriot Club and watch the Army vs Navy Game!\n
X-ALT-DESC:FMTTYPE=text/html:<!DOCTYPE HTML PUBLIC "-//W3C//DTD HTML 3.2//E
 N"><HTML><p>Come out to the Patriot Club and watch the Army vs Navy Game!<
 /p>\n</HTML>
CREATED;TZID=America/Chicago:20241022T124828
URL;VALUE=URI:https://sill.armymwr.com/calendar/event
DTSTART;TZID=America/Chicago:20241214T140000
DTEND;TZID=America/Chicago:20241214T150000
SEQUENCE:0
END:VEVENT
END:VCALENDAR
