BEGIN:VCALENDAR
VERSION:2.0
PRODID:-//Sabre//Sabre VObject 4.5.8//EN
CALSCALE:GREGORIAN
BEGIN:VEVENT
UID:sabre-vobject-a6e70460-e06c-43ce-88f0-3e18b78621c9
DTSTAMP:20260421T024853Z
SUMMARY:Bundle Up & Read
DESCRIPTION:All ages are welcome to participate in Nye Library&rsquo\;s &ld
 quo\;Bundle Up &amp\; Read!&rdquo\;\n
X-ALT-DESC:FMTTYPE=text/html:<!DOCTYPE HTML PUBLIC "-//W3C//DTD HTML 3.2//E
 N"><HTML><p>All ages are welcome to participate in Nye Library&rsquo\;s &l
 dquo\;Bundle Up &amp\; Read!&rdquo\;</p>\n</HTML>
CREATED;TZID=America/Chicago:20241112T140419
URL;VALUE=URI:https://sill.armymwr.com/calendar/event
DTSTART;TZID=America/Chicago:20241201T000000
DTEND;TZID=America/Chicago:20241201T235959
SEQUENCE:0
END:VEVENT
END:VCALENDAR
